BEGIN:VCALENDAR
VERSION:2.0
PRODID:-//wp-events-plugin.com//6.6.4.4//EN
BEGIN:VEVENT
UID:63@safecapital.eu
DTSTART;TZID=Europe/Brussels:20260507T190000
DTEND;TZID=Europe/Brussels:20260507T210000
DTSTAMP:20260409T144947Z
URL:https://www.safecapital.eu/events/financiele-satsang-07-05-2026/
SUMMARY:Financiële Satsang 07-05-2026
DESCRIPTION:Financiële Satsang\nDe Financiële Satsang is een maandelijkse
  online samenkomst rond de mentale en emotionele kant van investeren. Geen
  koop- of verkoopadviezen\, maar een open gesprek over denkfouten\, angste
 n\, hebzucht en andere psychologische valkuilen die goede financiële besl
 issingen in de weg kunnen staan.\n“Satsang” betekent letterlijk gezels
 chap met de waarheid: wie wil kan vragen of twijfels delen\, wie liever lu
 istert is even welkom. Samen onderzoeken we hoe je nuchter blijft kijken n
 aar de feiten — voorbij blind optimisme én blind pessimisme.\nDeze Zoom
 -call wordt niet opgenomen\, om een veilige en vertrouwelijke sfeer te gar
 anderen. Inschrijven is niet nodig: je kan gewoon aansluiten via de link h
 ieronder.\nJoin de Financiële Satsang: Klik hier 5 min voor aanvangstijd\
 n&nbsp\;
ATTACH;FMTTYPE=image/jpeg:https://safecapital-staging.ams3.digitaloceanspa
 ces.com/wp-content/uploads/2026/01/27165928/image-17.png
CATEGORIES:Financiële Satsang
LOCATION:https://us02web.zoom.us/j/88998981260
END:VEVENT
BEGIN:VTIMEZONE
TZID:Europe/Brussels
X-LIC-LOCATION:Europe/Brussels
BEGIN:DAYLIGHT
DTSTART:20260329T030000
TZOFFSETFROM:+0100
TZOFFSETTO:+0200
TZNAME:CEST
END:DAYLIGHT
END:VTIMEZONE
END:VCALENDAR